BEGIN:VCALENDAR
VERSION:2.0
PRODID:-//Skate NZ - ECPv6.15.20//NONSGML v1.0//EN
CALSCALE:GREGORIAN
METHOD:PUBLISH
X-ORIGINAL-URL:https://www.skatenz.org.nz
X-WR-CALDESC:Events for Skate NZ
REFRESH-INTERVAL;VALUE=DURATION:PT1H
X-Robots-Tag:noindex
X-PUBLISHED-TTL:PT1H
BEGIN:VTIMEZONE
TZID:Pacific/Auckland
BEGIN:STANDARD
TZOFFSETFROM:+1300
TZOFFSETTO:+1200
TZNAME:NZST
DTSTART:20210403T140000
END:STANDARD
BEGIN:DAYLIGHT
TZOFFSETFROM:+1200
TZOFFSETTO:+1300
TZNAME:NZDT
DTSTART:20210925T140000
END:DAYLIGHT
BEGIN:STANDARD
TZOFFSETFROM:+1300
TZOFFSETTO:+1200
TZNAME:NZST
DTSTART:20220402T140000
END:STANDARD
BEGIN:DAYLIGHT
TZOFFSETFROM:+1200
TZOFFSETTO:+1300
TZNAME:NZDT
DTSTART:20220924T140000
END:DAYLIGHT
BEGIN:STANDARD
TZOFFSETFROM:+1300
TZOFFSETTO:+1200
TZNAME:NZST
DTSTART:20230401T140000
END:STANDARD
BEGIN:DAYLIGHT
TZOFFSETFROM:+1200
TZOFFSETTO:+1300
TZNAME:NZDT
DTSTART:20230923T140000
END:DAYLIGHT
BEGIN:STANDARD
TZOFFSETFROM:+1300
TZOFFSETTO:+1200
TZNAME:NZST
DTSTART:20240406T140000
END:STANDARD
BEGIN:DAYLIGHT
TZOFFSETFROM:+1200
TZOFFSETTO:+1300
TZNAME:NZDT
DTSTART:20240928T140000
END:DAYLIGHT
END:VTIMEZONE
BEGIN:VEVENT
DTSTART;TZID=Pacific/Auckland:20230318T080000
DTEND;TZID=Pacific/Auckland:20230319T170000
DTSTAMP:20260421T032915
CREATED:20230119T034720Z
LAST-MODIFIED:20230119T035358Z
UID:3294-1679126400-1679245200@www.skatenz.org.nz
SUMMARY:MSSC Medal Tests
DESCRIPTION:
URL:https://www.skatenz.org.nz/event/mssc-medal-tests/
LOCATION:Arena Manawatu
CATEGORIES:Artistic
END:VEVENT
BEGIN:VEVENT
DTSTART;VALUE=DATE:20230304
DTEND;VALUE=DATE:20230306
DTSTAMP:20260421T032915
CREATED:20220609T022906Z
LAST-MODIFIED:20220902T124619Z
UID:3143-1677888000-1678060799@www.skatenz.org.nz
SUMMARY:2023 Upper Hutt Open Day
DESCRIPTION:
URL:https://www.skatenz.org.nz/event/2023-upper-hutt-open-day/
LOCATION:Te Rauparaha Arena\, 17 Parumoana St\, Porirua\, New Zealand
CATEGORIES:Artistic
END:VEVENT
BEGIN:VEVENT
DTSTART;TZID=Pacific/Auckland:20230226T150000
DTEND;TZID=Pacific/Auckland:20230226T190000
DTSTAMP:20260421T032915
CREATED:20230111T081623Z
LAST-MODIFIED:20230111T081623Z
UID:3290-1677423600-1677438000@www.skatenz.org.nz
SUMMARY:AWRSC Medal Tests
DESCRIPTION:
URL:https://www.skatenz.org.nz/event/awrsc-medal-tests-2/
LOCATION:The Trusts Arena\, 65-67 Central Park Dr\, Henderson\, Auckland\, 0650\, New Zealand
CATEGORIES:Artistic
END:VEVENT
BEGIN:VEVENT
DTSTART;TZID=Pacific/Auckland:20230226T080000
DTEND;TZID=Pacific/Auckland:20230226T170000
DTSTAMP:20260421T032915
CREATED:20230131T010211Z
LAST-MODIFIED:20230131T010211Z
UID:3320-1677398400-1677430800@www.skatenz.org.nz
SUMMARY:New Plymouth Medal Tests
DESCRIPTION:
URL:https://www.skatenz.org.nz/event/new-plymouth-medal-tests/
LOCATION:New Plymouth Rink\, East End Reserve\, Nobs Line\, New Plymouth\, New Zealand
CATEGORIES:Artistic
END:VEVENT
BEGIN:VEVENT
DTSTART;TZID=Pacific/Auckland:20230225T080000
DTEND;TZID=Pacific/Auckland:20230225T170000
DTSTAMP:20260421T032915
CREATED:20230131T003326Z
LAST-MODIFIED:20230131T003326Z
UID:3316-1677312000-1677344400@www.skatenz.org.nz
SUMMARY:BOP / Waikato Medal Tests
DESCRIPTION:
URL:https://www.skatenz.org.nz/event/bop-waikato-medal-tests/
LOCATION:Melville Skate Rink\, Melville Park\, Hamilton \, New Zealand
CATEGORIES:Artistic
END:VEVENT
BEGIN:VEVENT
DTSTART;TZID=Pacific/Auckland:20230225T080000
DTEND;TZID=Pacific/Auckland:20230225T153000
DTSTAMP:20260421T032915
CREATED:20230202T010316Z
LAST-MODIFIED:20230202T010316Z
UID:3329-1677312000-1677339000@www.skatenz.org.nz
SUMMARY:February Board Meeting 2023
DESCRIPTION:
URL:https://www.skatenz.org.nz/event/february-board-meeting-2023/
LOCATION:Unnamed Venue
CATEGORIES:Artistic,Speed
END:VEVENT
BEGIN:VEVENT
DTSTART;TZID=Pacific/Auckland:20230218T080000
DTEND;TZID=Pacific/Auckland:20230219T170000
DTSTAMP:20260421T032915
CREATED:20230131T005955Z
LAST-MODIFIED:20230131T005955Z
UID:3318-1676707200-1676826000@www.skatenz.org.nz
SUMMARY:Central Area Medal Tests
DESCRIPTION:
URL:https://www.skatenz.org.nz/event/central-area-medal-tests/
LOCATION:Arena Manawatu
CATEGORIES:Artistic
END:VEVENT
BEGIN:VEVENT
DTSTART;VALUE=DATE:20230205
DTEND;VALUE=DATE:20230206
DTSTAMP:20260421T032915
CREATED:20221208T013914Z
LAST-MODIFIED:20221208T013914Z
UID:3279-1675555200-1675641599@www.skatenz.org.nz
SUMMARY:Workshop with Mercedes - New Plymouth Edition
DESCRIPTION:
URL:https://www.skatenz.org.nz/event/workshop-with-mercedes-new-plymouth-edition/
LOCATION:New Plymouth Rink\, East End Reserve\, Nobs Line\, New Plymouth\, New Zealand
CATEGORIES:Artistic
END:VEVENT
BEGIN:VEVENT
DTSTART;TZID=Pacific/Auckland:20230204T080000
DTEND;TZID=Pacific/Auckland:20230205T170000
DTSTAMP:20260421T032915
CREATED:20230111T081515Z
LAST-MODIFIED:20230111T081515Z
UID:3288-1675497600-1675616400@www.skatenz.org.nz
SUMMARY:Upper Hutt Lower Medal Tests
DESCRIPTION:
URL:https://www.skatenz.org.nz/event/upper-hutt-lower-medal-tests/
LOCATION:Upper Hutt Club Rink\, Goodshed Road\, Upper hutt\, New Zealand
CATEGORIES:Artistic
END:VEVENT
BEGIN:VEVENT
DTSTART;TZID=Pacific/Auckland:20230122T080000
DTEND;TZID=Pacific/Auckland:20230122T170000
DTSTAMP:20260421T032915
CREATED:20230119T060153Z
LAST-MODIFIED:20230119T060153Z
UID:3297-1674374400-1674406800@www.skatenz.org.nz
SUMMARY:North Shore Medal Test
DESCRIPTION:
URL:https://www.skatenz.org.nz/event/north-shore-medal-test/
LOCATION:ActivZone Glenfield\, 30 Downing Street\, Auckland\, New Zealand\, New Zealand
CATEGORIES:Artistic
END:VEVENT
BEGIN:VEVENT
DTSTART;VALUE=DATE:20230115
DTEND;VALUE=DATE:20230116
DTSTAMP:20260421T032915
CREATED:20221130T225639Z
LAST-MODIFIED:20221130T225744Z
UID:3275-1673740800-1673827199@www.skatenz.org.nz
SUMMARY:Mercedes Workshop - Wellington Edition
DESCRIPTION:
URL:https://www.skatenz.org.nz/event/mercedes-workshop-wellington-edition/
LOCATION:Upper Hutt Club Rink\, Goodshed Road\, Upper hutt\, New Zealand
CATEGORIES:Artistic
END:VEVENT
BEGIN:VEVENT
DTSTART;TZID=Pacific/Auckland:20221211T080000
DTEND;TZID=Pacific/Auckland:20221211T170000
DTSTAMP:20260421T032915
CREATED:20221124T003134Z
LAST-MODIFIED:20221124T003134Z
UID:3273-1670745600-1670778000@www.skatenz.org.nz
SUMMARY:Tauranga Medal Test
DESCRIPTION:
URL:https://www.skatenz.org.nz/event/tauranga-medal-test/
LOCATION:Queen Elizabeth Stadium\, Tauranga\, New Zealand
CATEGORIES:Artistic
END:VEVENT
BEGIN:VEVENT
DTSTART;TZID=Pacific/Auckland:20221203T080000
DTEND;TZID=Pacific/Auckland:20221204T170000
DTSTAMP:20260421T032915
CREATED:20220923T041229Z
LAST-MODIFIED:20220923T041229Z
UID:3226-1670054400-1670173200@www.skatenz.org.nz
SUMMARY:New Plymouth Medal Test
DESCRIPTION:
URL:https://www.skatenz.org.nz/event/new-plymouth-medal-test/
LOCATION:New Plymouth Rink\, East End Reserve\, Nobs Line\, New Plymouth\, New Zealand
CATEGORIES:Artistic
END:VEVENT
BEGIN:VEVENT
DTSTART;TZID=Pacific/Auckland:20221126T080000
DTEND;TZID=Pacific/Auckland:20221127T170000
DTSTAMP:20260421T032915
CREATED:20221027T005307Z
LAST-MODIFIED:20221027T005307Z
UID:3258-1669449600-1669568400@www.skatenz.org.nz
SUMMARY:2022 Higher Medal Tests
DESCRIPTION:
URL:https://www.skatenz.org.nz/event/2022-higher-medal-tests/
LOCATION:Upper Hutt Club Rink\, Goodshed Road\, Upper hutt\, New Zealand
CATEGORIES:Artistic
END:VEVENT
BEGIN:VEVENT
DTSTART;VALUE=DATE:20221120
DTEND;VALUE=DATE:20221121
DTSTAMP:20260421T032915
CREATED:20220921T103634Z
LAST-MODIFIED:20220921T103634Z
UID:3224-1668902400-1668988799@www.skatenz.org.nz
SUMMARY:Workshop with Mercedes 2.0 - Palmy
DESCRIPTION:
URL:https://www.skatenz.org.nz/event/workshop-with-mercedes-2-0-palmy/
LOCATION:Arena Manawatu
CATEGORIES:Artistic
END:VEVENT
BEGIN:VEVENT
DTSTART;VALUE=DATE:20221119
DTEND;VALUE=DATE:20221120
DTSTAMP:20260421T032915
CREATED:20220705T002906Z
LAST-MODIFIED:20220705T002906Z
UID:3158-1668816000-1668902399@www.skatenz.org.nz
SUMMARY:2022 Auckland Rollersports Open
DESCRIPTION:
URL:https://www.skatenz.org.nz/event/2022-auckland-rollersports-open/
LOCATION:AUT North Shore
CATEGORIES:Artistic
END:VEVENT
BEGIN:VEVENT
DTSTART;VALUE=DATE:20220930
DTEND;VALUE=DATE:20221004
DTSTAMP:20260421T032915
CREATED:20220803T111015Z
LAST-MODIFIED:20220928T000713Z
UID:3178-1664496000-1664841599@www.skatenz.org.nz
SUMMARY:2022 World Skate Oceania Artistic Championships
DESCRIPTION:2022 World Skate Oceania Artistic Championships Programme
URL:https://www.skatenz.org.nz/event/2022-world-skate-oceania-artistic-championships/
LOCATION:Jubilee Stadium\, Springvale\, Wanganui\, New Zealand
CATEGORIES:Artistic
END:VEVENT
BEGIN:VEVENT
DTSTART;VALUE=DATE:20220924
DTEND;VALUE=DATE:20220926
DTSTAMP:20260421T032915
CREATED:20220607T124848Z
LAST-MODIFIED:20220607T124848Z
UID:3141-1663977600-1664150399@www.skatenz.org.nz
SUMMARY:2022 Upper Hutt Club Champs
DESCRIPTION:
URL:https://www.skatenz.org.nz/event/2022-upper-hutt-club-champs/
LOCATION:Upper Hutt Club Rink\, Goodshed Road\, Upper hutt\, New Zealand
CATEGORIES:Artistic
END:VEVENT
BEGIN:VEVENT
DTSTART;TZID=Pacific/Auckland:20220910T153000
DTEND;TZID=Pacific/Auckland:20220910T213000
DTSTAMP:20260421T032915
CREATED:20220810T012621Z
LAST-MODIFIED:20220810T012621Z
UID:3181-1662823800-1662845400@www.skatenz.org.nz
SUMMARY:2022 Workshop with Mercedes
DESCRIPTION:
URL:https://www.skatenz.org.nz/event/2022-workshop-with-mercedes/
LOCATION:ActivZone Glenfield\, 30 Downing Street\, Auckland\, New Zealand\, New Zealand
CATEGORIES:Artistic
END:VEVENT
BEGIN:VEVENT
DTSTART;TZID=Pacific/Auckland:20220821T080000
DTEND;TZID=Pacific/Auckland:20220821T170000
DTSTAMP:20260421T032915
CREATED:20220705T002759Z
LAST-MODIFIED:20220705T002759Z
UID:3156-1661068800-1661101200@www.skatenz.org.nz
SUMMARY:2022 Joan Alexander Auckland League
DESCRIPTION:
URL:https://www.skatenz.org.nz/event/2022-joan-alexander-auckland-league/
LOCATION:ActivZone Glenfield\, 30 Downing Street\, Auckland\, New Zealand\, New Zealand
CATEGORIES:Artistic
END:VEVENT
BEGIN:VEVENT
DTSTART;TZID=Pacific/Auckland:20220718T080000
DTEND;TZID=Pacific/Auckland:20220722T170000
DTSTAMP:20260421T032915
CREATED:20210923T112106Z
LAST-MODIFIED:20220708T003943Z
UID:3015-1658131200-1658509200@www.skatenz.org.nz
SUMMARY:2022 New Zealand Artistic Championships
DESCRIPTION:Programme – Competition Events\nProgramme – Special Events
URL:https://www.skatenz.org.nz/event/2022-new-zealand-artistic-championships/
LOCATION:Stadium 2000\, Blenheim
CATEGORIES:Artistic
END:VEVENT
BEGIN:VEVENT
DTSTART;TZID=Pacific/Auckland:20220527T080000
DTEND;TZID=Pacific/Auckland:20220529T170000
DTSTAMP:20260421T032915
CREATED:20220322T093943Z
LAST-MODIFIED:20220322T093943Z
UID:3105-1653638400-1653843600@www.skatenz.org.nz
SUMMARY:2022 Northern Area Championships
DESCRIPTION:
URL:https://www.skatenz.org.nz/event/2022-northern-area-championships/
LOCATION:QEII Stadium\, Tauranga\, New Zealand
CATEGORIES:Artistic
END:VEVENT
BEGIN:VEVENT
DTSTART;VALUE=DATE:20220520
DTEND;VALUE=DATE:20220523
DTSTAMP:20260421T032915
CREATED:20210909T044524Z
LAST-MODIFIED:20210909T044524Z
UID:3002-1653004800-1653263999@www.skatenz.org.nz
SUMMARY:2022 Laurie Hastie - Artistic
DESCRIPTION:
URL:https://www.skatenz.org.nz/event/2022-laurie-hastie-artistic/
LOCATION:Arena Manawatu
CATEGORIES:Artistic
END:VEVENT
BEGIN:VEVENT
DTSTART;VALUE=DATE:20220429
DTEND;VALUE=DATE:20220502
DTSTAMP:20260421T032915
CREATED:20210503T055212Z
LAST-MODIFIED:20210503T055212Z
UID:2919-1651190400-1651449599@www.skatenz.org.nz
SUMMARY:2022 Central Area Artistic Championships
DESCRIPTION:
URL:https://www.skatenz.org.nz/event/2022-central-area-artistic-championships/
LOCATION:Arena Manawatu
CATEGORIES:Artistic
END:VEVENT
BEGIN:VEVENT
DTSTART;VALUE=DATE:20220409
DTEND;VALUE=DATE:20220411
DTSTAMP:20260421T032915
CREATED:20211020T115704Z
LAST-MODIFIED:20211020T115704Z
UID:3018-1649462400-1649635199@www.skatenz.org.nz
SUMMARY:2022 East Central/West Central Regionals
DESCRIPTION:
URL:https://www.skatenz.org.nz/event/2022-east-central-west-central-regionals/
LOCATION:Upper Hutt Club Rink\, Goodshed Road\, Upper hutt\, New Zealand
CATEGORIES:Artistic
END:VEVENT
BEGIN:VEVENT
DTSTART;VALUE=DATE:20220320
DTEND;VALUE=DATE:20220321
DTSTAMP:20260421T032915
CREATED:20220204T015511Z
LAST-MODIFIED:20220204T015511Z
UID:3073-1647734400-1647820799@www.skatenz.org.nz
SUMMARY:2022 Auckland Northland Regional Championships
DESCRIPTION:
URL:https://www.skatenz.org.nz/event/2022-auckland-northland-regional-championships/
LOCATION:The Trusts Arena\, 65-67 Central Park Dr\, Henderson\, Auckland\, 0650\, New Zealand
CATEGORIES:Artistic
END:VEVENT
BEGIN:VEVENT
DTSTART;VALUE=DATE:20220319
DTEND;VALUE=DATE:20220321
DTSTAMP:20260421T032915
CREATED:20220204T015559Z
LAST-MODIFIED:20220204T015559Z
UID:3075-1647648000-1647820799@www.skatenz.org.nz
SUMMARY:2022 Upper Hutt Open Day
DESCRIPTION:
URL:https://www.skatenz.org.nz/event/2022-upper-hutt-open-day/
LOCATION:Upper Hutt Club Rink\, Goodshed Road\, Upper hutt\, New Zealand
CATEGORIES:Artistic
END:VEVENT
BEGIN:VEVENT
DTSTART;TZID=Pacific/Auckland:20220318T180000
DTEND;TZID=Pacific/Auckland:20220318T200000
DTSTAMP:20260421T032915
CREATED:20220209T085008Z
LAST-MODIFIED:20220209T085008Z
UID:3084-1647626400-1647633600@www.skatenz.org.nz
SUMMARY:Upper Hutt Higher Medal Tests
DESCRIPTION:
URL:https://www.skatenz.org.nz/event/upper-hutt-higher-medal-tests-2/
LOCATION:Upper Hutt Club Rink\, Goodshed Road\, Upper hutt\, New Zealand
CATEGORIES:Artistic
END:VEVENT
BEGIN:VEVENT
DTSTART;TZID=Pacific/Auckland:20220312T080000
DTEND;TZID=Pacific/Auckland:20220312T170000
DTSTAMP:20260421T032915
CREATED:20220204T020205Z
LAST-MODIFIED:20220204T020205Z
UID:3077-1647072000-1647104400@www.skatenz.org.nz
SUMMARY:Mt Wellington Medal Test - March
DESCRIPTION:
URL:https://www.skatenz.org.nz/event/mt-wellington-medal-test-march/
LOCATION:Mt Wellington Rink
CATEGORIES:Artistic
END:VEVENT
BEGIN:VEVENT
DTSTART;TZID=Pacific/Auckland:20220227T080000
DTEND;TZID=Pacific/Auckland:20220227T170000
DTSTAMP:20260421T032915
CREATED:20220124T020822Z
LAST-MODIFIED:20220124T020822Z
UID:3064-1645948800-1645981200@www.skatenz.org.nz
SUMMARY:Tauranga Medal Tests
DESCRIPTION:
URL:https://www.skatenz.org.nz/event/tauranga-medal-tests/
LOCATION:Queen Elizabeth Stadium\, Tauranga\, New Zealand
CATEGORIES:Artistic
END:VEVENT
END:VCALENDAR