BEGIN:VCALENDAR
VERSION:2.0
PRODID:-//Skate NZ - ECPv6.15.20//NONSGML v1.0//EN
CALSCALE:GREGORIAN
METHOD:PUBLISH
X-ORIGINAL-URL:https://www.skatenz.org.nz
X-WR-CALDESC:Events for Skate NZ
REFRESH-INTERVAL;VALUE=DURATION:PT1H
X-Robots-Tag:noindex
X-PUBLISHED-TTL:PT1H
BEGIN:VTIMEZONE
TZID:Pacific/Auckland
BEGIN:STANDARD
TZOFFSETFROM:+1300
TZOFFSETTO:+1200
TZNAME:NZST
DTSTART:20240406T140000
END:STANDARD
BEGIN:DAYLIGHT
TZOFFSETFROM:+1200
TZOFFSETTO:+1300
TZNAME:NZDT
DTSTART:20240928T140000
END:DAYLIGHT
BEGIN:STANDARD
TZOFFSETFROM:+1300
TZOFFSETTO:+1200
TZNAME:NZST
DTSTART:20250405T140000
END:STANDARD
BEGIN:DAYLIGHT
TZOFFSETFROM:+1200
TZOFFSETTO:+1300
TZNAME:NZDT
DTSTART:20250927T140000
END:DAYLIGHT
BEGIN:STANDARD
TZOFFSETFROM:+1300
TZOFFSETTO:+1200
TZNAME:NZST
DTSTART:20260404T140000
END:STANDARD
BEGIN:DAYLIGHT
TZOFFSETFROM:+1200
TZOFFSETTO:+1300
TZNAME:NZDT
DTSTART:20260926T140000
END:DAYLIGHT
END:VTIMEZONE
BEGIN:VEVENT
DTSTART;TZID=Pacific/Auckland:20250913T080000
DTEND;TZID=Pacific/Auckland:20250913T170000
DTSTAMP:20260421T133807
CREATED:20250925T023250Z
LAST-MODIFIED:20250925T023250Z
UID:4093-1757750400-1757782800@www.skatenz.org.nz
SUMMARY:Hamilton September 2025 Speed Medal Test
DESCRIPTION:
URL:https://www.skatenz.org.nz/event/hamilton-september-2025-speed-medal-test/
LOCATION:Melville Park\, Bader Street\, Hamilton\, New Zealand
CATEGORIES:Speed
END:VEVENT
END:VCALENDAR