BEGIN:VCALENDAR
VERSION:2.0
PRODID:-//Skate NZ - ECPv6.15.20//NONSGML v1.0//EN
CALSCALE:GREGORIAN
METHOD:PUBLISH
X-ORIGINAL-URL:https://www.skatenz.org.nz
X-WR-CALDESC:Events for Skate NZ
REFRESH-INTERVAL;VALUE=DURATION:PT1H
X-Robots-Tag:noindex
X-PUBLISHED-TTL:PT1H
BEGIN:VTIMEZONE
TZID:Pacific/Auckland
BEGIN:STANDARD
TZOFFSETFROM:+1300
TZOFFSETTO:+1200
TZNAME:NZST
DTSTART:20230401T140000
END:STANDARD
BEGIN:DAYLIGHT
TZOFFSETFROM:+1200
TZOFFSETTO:+1300
TZNAME:NZDT
DTSTART:20230923T140000
END:DAYLIGHT
BEGIN:STANDARD
TZOFFSETFROM:+1300
TZOFFSETTO:+1200
TZNAME:NZST
DTSTART:20240406T140000
END:STANDARD
BEGIN:DAYLIGHT
TZOFFSETFROM:+1200
TZOFFSETTO:+1300
TZNAME:NZDT
DTSTART:20240928T140000
END:DAYLIGHT
BEGIN:STANDARD
TZOFFSETFROM:+1300
TZOFFSETTO:+1200
TZNAME:NZST
DTSTART:20250405T140000
END:STANDARD
BEGIN:DAYLIGHT
TZOFFSETFROM:+1200
TZOFFSETTO:+1300
TZNAME:NZDT
DTSTART:20250927T140000
END:DAYLIGHT
END:VTIMEZONE
BEGIN:VEVENT
DTSTART;TZID=Pacific/Auckland:20241005T080000
DTEND;TZID=Pacific/Auckland:20241005T170000
DTSTAMP:20260424T123427
CREATED:20240917T020558Z
LAST-MODIFIED:20240917T020558Z
UID:3864-1728115200-1728147600@www.skatenz.org.nz
SUMMARY:2024 Southern Regional Open Speed Day
DESCRIPTION:
URL:https://www.skatenz.org.nz/event/2024-southern-regional-open-speed-day/
LOCATION:Pioneer Stadium\, Christchurch\, New Zealand
CATEGORIES:Speed
END:VEVENT
END:VCALENDAR