BEGIN:VCALENDAR
VERSION:2.0
PRODID:-//Skate NZ - ECPv6.15.20//NONSGML v1.0//EN
CALSCALE:GREGORIAN
METHOD:PUBLISH
X-WR-CALNAME:Skate NZ
X-ORIGINAL-URL:https://www.skatenz.org.nz
X-WR-CALDESC:Events for Skate NZ
REFRESH-INTERVAL;VALUE=DURATION:PT1H
X-Robots-Tag:noindex
X-PUBLISHED-TTL:PT1H
BEGIN:VTIMEZONE
TZID:Pacific/Auckland
BEGIN:STANDARD
TZOFFSETFROM:+1300
TZOFFSETTO:+1200
TZNAME:NZST
DTSTART:20250405T140000
END:STANDARD
BEGIN:DAYLIGHT
TZOFFSETFROM:+1200
TZOFFSETTO:+1300
TZNAME:NZDT
DTSTART:20250927T140000
END:DAYLIGHT
BEGIN:STANDARD
TZOFFSETFROM:+1300
TZOFFSETTO:+1200
TZNAME:NZST
DTSTART:20260404T140000
END:STANDARD
BEGIN:DAYLIGHT
TZOFFSETFROM:+1200
TZOFFSETTO:+1300
TZNAME:NZDT
DTSTART:20260926T140000
END:DAYLIGHT
BEGIN:STANDARD
TZOFFSETFROM:+1300
TZOFFSETTO:+1200
TZNAME:NZST
DTSTART:20270403T140000
END:STANDARD
BEGIN:DAYLIGHT
TZOFFSETFROM:+1200
TZOFFSETTO:+1300
TZNAME:NZDT
DTSTART:20270925T140000
END:DAYLIGHT
END:VTIMEZONE
BEGIN:VEVENT
DTSTART;TZID=Pacific/Auckland:20260206T080000
DTEND;TZID=Pacific/Auckland:20260208T170000
DTSTAMP:20260421T170439
CREATED:20250606T040358Z
LAST-MODIFIED:20260202T012042Z
UID:4003-1770364800-1770570000@www.skatenz.org.nz
SUMMARY:2026 New Zealand Banked Track Championships
DESCRIPTION:Bulletin 1 – NZ 2026 Speed Nationals\n2026 Banked Track Programme\nEvent-Safety-and-Risk-Plan – 2026
URL:https://www.skatenz.org.nz/event/2026-new-zealand-banked-track-championships/
LOCATION:Melville Park\, Bader Street\, Hamilton\, New Zealand
CATEGORIES:Speed
END:VEVENT
BEGIN:VEVENT
DTSTART;VALUE=DATE:20260613
DTEND;VALUE=DATE:20260615
DTSTAMP:20260421T170439
CREATED:20260302T223009Z
LAST-MODIFIED:20260302T223009Z
UID:4223-1781308800-1781481599@www.skatenz.org.nz
SUMMARY:2026 Auckland Regionals
DESCRIPTION:
URL:https://www.skatenz.org.nz/event/2026-auckland-regionals/
LOCATION:B&T Stadium\, Previously ASB Stadium\, Kohimaramara\, Auckland\, New Zealand
CATEGORIES:Artistic,Speed
END:VEVENT
BEGIN:VEVENT
DTSTART;TZID=Pacific/Auckland:20261121T080000
DTEND;TZID=Pacific/Auckland:20261122T170000
DTSTAMP:20260421T170439
CREATED:20260318T232027Z
LAST-MODIFIED:20260318T232027Z
UID:4230-1795248000-1795366800@www.skatenz.org.nz
SUMMARY:2026 River City Tour
DESCRIPTION:
URL:https://www.skatenz.org.nz/event/2026-river-city-tour/
LOCATION:Kowhai Park & Jubilee Stadium\, Wanganui East\, Wanganui
CATEGORIES:Speed
END:VEVENT
END:VCALENDAR